BEGIN:VCALENDAR
VERSION:2.0
PRODID:-//Postigo Abierto - ECPv6.15.20//NONSGML v1.0//EN
CALSCALE:GREGORIAN
METHOD:PUBLISH
X-ORIGINAL-URL:https://postigoabierto.com
X-WR-CALDESC:Eventos para Postigo Abierto
REFRESH-INTERVAL;VALUE=DURATION:PT1H
X-Robots-Tag:noindex
X-PUBLISHED-TTL:PT1H
BEGIN:VTIMEZONE
TZID:Europe/Madrid
BEGIN:DAYLIGHT
TZOFFSETFROM:+0100
TZOFFSETTO:+0200
TZNAME:CEST
DTSTART:20240331T010000
END:DAYLIGHT
BEGIN:STANDARD
TZOFFSETFROM:+0200
TZOFFSETTO:+0100
TZNAME:CET
DTSTART:20241027T010000
END:STANDARD
BEGIN:DAYLIGHT
TZOFFSETFROM:+0100
TZOFFSETTO:+0200
TZNAME:CEST
DTSTART:20250330T010000
END:DAYLIGHT
BEGIN:STANDARD
TZOFFSETFROM:+0200
TZOFFSETTO:+0100
TZNAME:CET
DTSTART:20251026T010000
END:STANDARD
BEGIN:DAYLIGHT
TZOFFSETFROM:+0100
TZOFFSETTO:+0200
TZNAME:CEST
DTSTART:20260329T010000
END:DAYLIGHT
BEGIN:STANDARD
TZOFFSETFROM:+0200
TZOFFSETTO:+0100
TZNAME:CET
DTSTART:20261025T010000
END:STANDARD
END:VTIMEZONE
BEGIN:VEVENT
DTSTART;TZID=Europe/Madrid:20250712T193000
DTEND;TZID=Europe/Madrid:20250712T203000
DTSTAMP:20260421T201416
CREATED:20250707T224059Z
LAST-MODIFIED:20250708T132846Z
UID:3672-1752348600-1752352200@postigoabierto.com
SUMMARY:Presentación de "TierrAdentro" (vol. 2 - Poesía Abierta) - Teo Hernando
DESCRIPTION:Tras la presentación en mayo de nuestra colección «Poesía Abierta»\, toca ahora presentar el segundo volumen\, «TierrAdentro» de Teo Hernando\, con lecturas de algunos de los poemas a cargo del propio autor. \n  \nPOESÍA ABIERTA\nPoesía Abierta es una colección que responde a algunas de las premisas de Postigo Abierto\, como son el aportar un espacio a quien no cuenta con uno propio\, dar voz a quien no la tiene\, escarbar en terrenos que permitan encontrar preciadas trufas culturales\, apoyar a artistas para conectarles con su potencial público… y\, algo importante\, hacer lo que nos apetece. Y ahora nos ha apetecido realizar algunas publicaciones. \n¿Razones que hagan atractivo hacerse con algún volumen? \nLas tiradas son limitadas\, numeradas y firmadas por el autor. El tiempo pasará y serás poseedor de una obra personalizada. \nEl número de volúmenes de la colección (cuya aparición quizá sea totalmente anárquica y a cuentagotas) es indeterminado\, quizá incluso termine siendo ínfimo. Así que el tiempo pasará y podrías estar en posesión uno de los escasos volúmenes\, quién sabe\, que se publiquen. \nEl tiempo pasará y quizá tengas que salvar de alguna quema algunos ejemplares. O quizá directamente pasará el tiempo y los eliminemos nosotros mismos. No sería la primera vez. \nLo único que tenemos claro es que el tiempo pasará\, así que procura estar para verlo. \nTodas esas razones nos parecen más que suficientes para que aquellos amantes de la cultura\, esos apasionados por las novedades y los fascinados por coleccionar piezas extrañas se preocupen de hacerse con algún ejemplar. \n  \nVOLUMEN 2.- TIERRADENTRO\nEste poemario supone el segundo acercamiento de Teo Hernando a este arte literario\, tras «La Espera» (col. Zigurat\, Ateneo Obrero de Gijón\, 2016). \nMelancolía y belleza\, paisajes rurales castellanos de la infancia\, vidas de ancestros\, reiteración obsesiva de palabras y temas. Evocaciones y miradas lentas y reflexivas. En este poemario nada es complaciente porque la vida es dura\, requiere de una energía de la que el autor no dispone y se encamina\, sin clemencia\, hacia el fin. La ausencia es la única manera en la que perduran las personas y las cosas. \n  \n \nEl autor\nTeo Hernando (Campezo\, Álava\, 1958)\, trabajó como Maestro de Pedagogía Terapéutica\, y es fotógrafo y poeta. \nHa publicado «La Espera» (Gijón\, 2016) dentro de la colección Zigurat dirigida por David González\, siendo «TierrAdentro» su segundo poemario. \n 
URL:https://postigoabierto.com/evento/presentacion-de-tierradentro-vol-2-poesia-abierta-teo-hernando/
LOCATION:Postigo Abierto\, Postigo Bajo\, 21. Bajo.\, OVIEDO\, Asturias\, 33009\, Spain
CATEGORIES:#__Presentaciones,#_Artes_Literarias
ATTACH;FMTTYPE=image/jpeg:https://postigoabierto.com/wp-content/uploads/2025/07/tierrAdentro-scaled.jpeg
END:VEVENT
END:VCALENDAR